BEGIN:VCALENDAR
VERSION:2.0
PRODID:-//Berkshire Workforce Board - ECPv6.15.18//NONSGML v1.0//EN
CALSCALE:GREGORIAN
METHOD:PUBLISH
X-WR-CALNAME:Berkshire Workforce Board
X-ORIGINAL-URL:https://masshireberkshire.com
X-WR-CALDESC:Events for Berkshire Workforce Board
REFRESH-INTERVAL;VALUE=DURATION:PT1H
X-Robots-Tag:noindex
X-PUBLISHED-TTL:PT1H
BEGIN:VTIMEZONE
TZID:America/New_York
BEGIN:DAYLIGHT
TZOFFSETFROM:-0500
TZOFFSETTO:-0400
TZNAME:EDT
DTSTART:20240310T070000
END:DAYLIGHT
BEGIN:STANDARD
TZOFFSETFROM:-0400
TZOFFSETTO:-0500
TZNAME:EST
DTSTART:20241103T060000
END:STANDARD
BEGIN:DAYLIGHT
TZOFFSETFROM:-0500
TZOFFSETTO:-0400
TZNAME:EDT
DTSTART:20250309T070000
END:DAYLIGHT
BEGIN:STANDARD
TZOFFSETFROM:-0400
TZOFFSETTO:-0500
TZNAME:EST
DTSTART:20251102T060000
END:STANDARD
BEGIN:DAYLIGHT
TZOFFSETFROM:-0500
TZOFFSETTO:-0400
TZNAME:EDT
DTSTART:20260308T070000
END:DAYLIGHT
BEGIN:STANDARD
TZOFFSETFROM:-0400
TZOFFSETTO:-0500
TZNAME:EST
DTSTART:20261101T060000
END:STANDARD
END:VTIMEZONE
BEGIN:VEVENT
DTSTART;VALUE=DATE:20251020
DTEND;VALUE=DATE:20251021
DTSTAMP:20260421T112927
CREATED:20251020T135420Z
LAST-MODIFIED:20251020T141247Z
UID:19375-1760918400-1761004799@masshireberkshire.com
SUMMARY:STEM Week - October 20-24 Monday's Activities
DESCRIPTION:Monday\, October 20th \n\nTaconic High School Students explore STEM careers at MCLA (9AM-1PM)\nHoffman Animals – Berkshire Community College Hoffman Center\, 1350 West Street\, Pittsfield – 1-2:30PM – Free and open to the public!\nLaunching into STEM week – A Planetarium Show – 6-7PM at the Williams College Hopkins Observatory\, 820 Main St\, Williamstown – Planetarium Show free and open to the public.  Please register at https://tinyurl.com/StarShowOct2025\nLaunching into STEM week – A Planetarium Show – 7-8PM at the Williams College Hopkins Observatory\, 820 Main St\, Williamstown – Planetarium Show free and open to the public.  Please register at https://tinyurl.com/StarShowOct2025\n\nVisit mass.gov/STEM for more information \nMassHire is pleased to be a part of the Berkshire STEM Network (with MCLA serving as the\nbackbone)\, which kicked off in 2004\, and serves as a hub for connecting educators\, community\nleaders and industry partners to excite and energize students about opportunities in STEM\nsubjects. This network plays a key role in cultivating interest and engagement in activities in the\nBerkshires. \n 
URL:https://masshireberkshire.com/event/stem-week-october-20-24-2025/
ORGANIZER;CN="Heather Boulger":MAILTO:Heather@masshireberkshire.com
END:VEVENT
END:VCALENDAR