BEGIN:VCALENDAR
VERSION:2.0
PRODID:-//Berkshire Workforce Board - ECPv6.15.18//NONSGML v1.0//EN
CALSCALE:GREGORIAN
METHOD:PUBLISH
X-ORIGINAL-URL:https://masshireberkshire.com
X-WR-CALDESC:Events for Berkshire Workforce Board
REFRESH-INTERVAL;VALUE=DURATION:PT1H
X-Robots-Tag:noindex
X-PUBLISHED-TTL:PT1H
BEGIN:VTIMEZONE
TZID:America/New_York
BEGIN:DAYLIGHT
TZOFFSETFROM:-0500
TZOFFSETTO:-0400
TZNAME:EDT
DTSTART:20240310T070000
END:DAYLIGHT
BEGIN:STANDARD
TZOFFSETFROM:-0400
TZOFFSETTO:-0500
TZNAME:EST
DTSTART:20241103T060000
END:STANDARD
BEGIN:DAYLIGHT
TZOFFSETFROM:-0500
TZOFFSETTO:-0400
TZNAME:EDT
DTSTART:20250309T070000
END:DAYLIGHT
BEGIN:STANDARD
TZOFFSETFROM:-0400
TZOFFSETTO:-0500
TZNAME:EST
DTSTART:20251102T060000
END:STANDARD
BEGIN:DAYLIGHT
TZOFFSETFROM:-0500
TZOFFSETTO:-0400
TZNAME:EDT
DTSTART:20260308T070000
END:DAYLIGHT
BEGIN:STANDARD
TZOFFSETFROM:-0400
TZOFFSETTO:-0500
TZNAME:EST
DTSTART:20261101T060000
END:STANDARD
END:VTIMEZONE
BEGIN:VEVENT
DTSTART;VALUE=DATE:20251022
DTEND;VALUE=DATE:20251023
DTSTAMP:20260421T113156
CREATED:20251020T135739Z
LAST-MODIFIED:20251020T141139Z
UID:19379-1761091200-1761177599@masshireberkshire.com
SUMMARY:STEM Week - October 20-24 Wednesday's Activities
DESCRIPTION:Wednesday\, October 22nd 2025 \n\nHalloween Chemistry – 11:30am-12:30pm at Berkshire Community College Connector\, 1350 West Street in Pittsfield. Vomiting pumpkins\, color change and glowing goo!  Free and open to the public\nEngineering Demos – 2-3PM at Berkshire Community College Science Commons\, 1350 West Street in Pittsfield. Free and open to the public.\n\nVisit mass.gov/STEM for more information \nMassHire is pleased to be a part of the Berkshire STEM Network (with MCLA serving as the\nbackbone)\, which kicked off in 2004\, and serves as a hub for connecting educators\, community\nleaders and industry partners to excite and energize students about opportunities in STEM\nsubjects. This network plays a key role in cultivating interest and engagement in activities in the\nBerkshires.
URL:https://masshireberkshire.com/event/stem-week-october-20-24/
END:VEVENT
END:VCALENDAR