BEGIN:VCALENDAR
VERSION:2.0
PRODID:-//Berkshire Workforce Board - ECPv6.15.18//NONSGML v1.0//EN
CALSCALE:GREGORIAN
METHOD:PUBLISH
X-WR-CALNAME:Berkshire Workforce Board
X-ORIGINAL-URL:https://masshireberkshire.com
X-WR-CALDESC:Events for Berkshire Workforce Board
REFRESH-INTERVAL;VALUE=DURATION:PT1H
X-Robots-Tag:noindex
X-PUBLISHED-TTL:PT1H
BEGIN:VTIMEZONE
TZID:America/New_York
BEGIN:DAYLIGHT
TZOFFSETFROM:-0500
TZOFFSETTO:-0400
TZNAME:EDT
DTSTART:20240310T070000
END:DAYLIGHT
BEGIN:STANDARD
TZOFFSETFROM:-0400
TZOFFSETTO:-0500
TZNAME:EST
DTSTART:20241103T060000
END:STANDARD
BEGIN:DAYLIGHT
TZOFFSETFROM:-0500
TZOFFSETTO:-0400
TZNAME:EDT
DTSTART:20250309T070000
END:DAYLIGHT
BEGIN:STANDARD
TZOFFSETFROM:-0400
TZOFFSETTO:-0500
TZNAME:EST
DTSTART:20251102T060000
END:STANDARD
BEGIN:DAYLIGHT
TZOFFSETFROM:-0500
TZOFFSETTO:-0400
TZNAME:EDT
DTSTART:20260308T070000
END:DAYLIGHT
BEGIN:STANDARD
TZOFFSETFROM:-0400
TZOFFSETTO:-0500
TZNAME:EST
DTSTART:20261101T060000
END:STANDARD
END:VTIMEZONE
BEGIN:VEVENT
DTSTART;VALUE=DATE:20251023
DTEND;VALUE=DATE:20251024
DTSTAMP:20260421T113033
CREATED:20251020T140026Z
LAST-MODIFIED:20251020T141021Z
UID:19381-1761177600-1761263999@masshireberkshire.com
SUMMARY:STEM Week October 20-24 Thursday activities
DESCRIPTION:Thursday\, October 23rd 2025 \n\nBirds of Prey Presentation 12-1PM at the Center for Science and Innovation\, 47 Blackinton Street\, North Adams. Live Birds of Prey demonstration hosted by Tom Ricardi of the Birds of Prey Rehabilitation Center. This event is free and open to the public.\nDrone Flights – 1:30-2:30 at Berkshire Community College’s Connector\, 1350 West Street in Pittsfield. Come see drones in action! Free and open to the public.\nFlying Cloud STEAM Challenge night at the Berkshire Innovation Center\nSTEM Trivia night at Antimony Brewery in Lenox\n\nVisit mass.gov/STEM for more information \nMassHire is pleased to be a part of the Berkshire STEM Network (with MCLA serving as the\nbackbone)\, which kicked off in 2004\, and serves as a hub for connecting educators\, community\nleaders and industry partners to excite and energize students about opportunities in STEM\nsubjects. This network plays a key role in cultivating interest and engagement in activities in the\nBerkshires.
URL:https://masshireberkshire.com/event/stem-week-october-20-24-2025-2/
END:VEVENT
END:VCALENDAR