BEGIN:VCALENDAR
VERSION:2.0
PRODID:-//Berkshire Workforce Board - ECPv6.15.18//NONSGML v1.0//EN
CALSCALE:GREGORIAN
METHOD:PUBLISH
X-WR-CALNAME:Berkshire Workforce Board
X-ORIGINAL-URL:https://masshireberkshire.com
X-WR-CALDESC:Events for Berkshire Workforce Board
REFRESH-INTERVAL;VALUE=DURATION:PT1H
X-Robots-Tag:noindex
X-PUBLISHED-TTL:PT1H
BEGIN:VTIMEZONE
TZID:America/New_York
BEGIN:DAYLIGHT
TZOFFSETFROM:-0500
TZOFFSETTO:-0400
TZNAME:EDT
DTSTART:20240310T070000
END:DAYLIGHT
BEGIN:STANDARD
TZOFFSETFROM:-0400
TZOFFSETTO:-0500
TZNAME:EST
DTSTART:20241103T060000
END:STANDARD
BEGIN:DAYLIGHT
TZOFFSETFROM:-0500
TZOFFSETTO:-0400
TZNAME:EDT
DTSTART:20250309T070000
END:DAYLIGHT
BEGIN:STANDARD
TZOFFSETFROM:-0400
TZOFFSETTO:-0500
TZNAME:EST
DTSTART:20251102T060000
END:STANDARD
BEGIN:DAYLIGHT
TZOFFSETFROM:-0500
TZOFFSETTO:-0400
TZNAME:EDT
DTSTART:20260308T070000
END:DAYLIGHT
BEGIN:STANDARD
TZOFFSETFROM:-0400
TZOFFSETTO:-0500
TZNAME:EST
DTSTART:20261101T060000
END:STANDARD
END:VTIMEZONE
BEGIN:VEVENT
DTSTART;TZID=America/New_York:20250509T110000
DTEND;TZID=America/New_York:20250509T130000
DTSTAMP:20260421T174757
CREATED:20250426T005058Z
LAST-MODIFIED:20250426T005058Z
UID:19213-1746788400-1746795600@masshireberkshire.com
SUMMARY:Manufacturing & Welding Job Fair
DESCRIPTION:Job Fair for the Manufacturing & Welding Industry. Meet with employers actively recruiting in this exciting and high growth sector. Network\, learn about free training opportunities\, bring your resume and interview on the spot. Begin a new career or upgrade your current role!\n \nRegistered Employers:\nBoyd Biomedical\nInterprint\, Inc.\nLenco Armored Vehicles\nMolari Employment and HealthCare Services\nPittsfield Plastics Engineering\, LLC\nUltra Pro International\nUnistress Corporations\nUS ARMY
URL:https://masshireberkshire.com/event/manufacturing-welding-job-fair/
LOCATION:MassHire Berkshire Career Center\, 160 North Street\, Pittsfield\, MA 01201\, 160 North Street\, Pittsfield\, MA\, 01201\, United States
END:VEVENT
BEGIN:VEVENT
DTSTART;TZID=America/New_York:20250514T080000
DTEND;TZID=America/New_York:20250514T080000
DTSTAMP:20260421T174757
CREATED:20250513T154905Z
LAST-MODIFIED:20250513T154905Z
UID:19235-1747209600-1747209600@masshireberkshire.com
SUMMARY:BCREB/BWB Executive Committee
DESCRIPTION:The BCREB/BWB Executive Committee will convene to discuss administrative items.  The agenda and relevant materials will be forwarded to Committee members.
URL:https://masshireberkshire.com/event/bcreb-bwb-executive-committee/
LOCATION:Virtually Via Zoom
END:VEVENT
BEGIN:VEVENT
DTSTART;TZID=America/New_York:20250522T080000
DTEND;TZID=America/New_York:20250522T090000
DTSTAMP:20260421T174757
CREATED:20250513T155028Z
LAST-MODIFIED:20250513T155028Z
UID:19237-1747900800-1747904400@masshireberkshire.com
SUMMARY:BWB Evaluation Committee
DESCRIPTION:The Berkshire Workforce Board Evaluation Committee will convene to review programs under its auspices. The Agenda and relevant materials will be forwarded to Committee members.
URL:https://masshireberkshire.com/event/bwb-evaluation-committee/
LOCATION:Virtually Via Zoom
ORGANIZER;CN="Heather Boulger":MAILTO:Heather@masshireberkshire.com
END:VEVENT
END:VCALENDAR