BEGIN:VCALENDAR
VERSION:2.0
PRODID:-//Berkshire Workforce Board - ECPv6.15.18//NONSGML v1.0//EN
CALSCALE:GREGORIAN
METHOD:PUBLISH
X-ORIGINAL-URL:https://masshireberkshire.com
X-WR-CALDESC:Events for Berkshire Workforce Board
REFRESH-INTERVAL;VALUE=DURATION:PT1H
X-Robots-Tag:noindex
X-PUBLISHED-TTL:PT1H
BEGIN:VTIMEZONE
TZID:America/New_York
BEGIN:DAYLIGHT
TZOFFSETFROM:-0500
TZOFFSETTO:-0400
TZNAME:EDT
DTSTART:20240310T070000
END:DAYLIGHT
BEGIN:STANDARD
TZOFFSETFROM:-0400
TZOFFSETTO:-0500
TZNAME:EST
DTSTART:20241103T060000
END:STANDARD
BEGIN:DAYLIGHT
TZOFFSETFROM:-0500
TZOFFSETTO:-0400
TZNAME:EDT
DTSTART:20250309T070000
END:DAYLIGHT
BEGIN:STANDARD
TZOFFSETFROM:-0400
TZOFFSETTO:-0500
TZNAME:EST
DTSTART:20251102T060000
END:STANDARD
BEGIN:DAYLIGHT
TZOFFSETFROM:-0500
TZOFFSETTO:-0400
TZNAME:EDT
DTSTART:20260308T070000
END:DAYLIGHT
BEGIN:STANDARD
TZOFFSETFROM:-0400
TZOFFSETTO:-0500
TZNAME:EST
DTSTART:20261101T060000
END:STANDARD
END:VTIMEZONE
BEGIN:VEVENT
DTSTART;TZID=America/New_York:20251009T080000
DTEND;TZID=America/New_York:20251009T170000
DTSTAMP:20260421T100635
CREATED:20251009T211412Z
LAST-MODIFIED:20251009T211412Z
UID:19366-1759996800-1760029200@masshireberkshire.com
SUMMARY:Office closed in honor of Indigenous Peoples' Day
DESCRIPTION:We will be back at work at 8AM on Tuesday the 14th!
URL:https://masshireberkshire.com/event/office-closed-in-honor-of-indigenous-peoples-day/
END:VEVENT
BEGIN:VEVENT
DTSTART;TZID=America/New_York:20251013T080000
DTEND;TZID=America/New_York:20251013T160000
DTSTAMP:20260421T100635
CREATED:20251009T211608Z
LAST-MODIFIED:20251009T211608Z
UID:19369-1760342400-1760371200@masshireberkshire.com
SUMMARY:Office closed in honor of Indigenous Peoples' Day
DESCRIPTION:
URL:https://masshireberkshire.com/event/office-closed-in-honor-of-indigenous-peoples-day-2/
END:VEVENT
BEGIN:VEVENT
DTSTART;VALUE=DATE:20251020
DTEND;VALUE=DATE:20251021
DTSTAMP:20260421T100635
CREATED:20251020T135420Z
LAST-MODIFIED:20251020T141247Z
UID:19375-1760918400-1761004799@masshireberkshire.com
SUMMARY:STEM Week - October 20-24 Monday's Activities
DESCRIPTION:Monday\, October 20th \n\nTaconic High School Students explore STEM careers at MCLA (9AM-1PM)\nHoffman Animals – Berkshire Community College Hoffman Center\, 1350 West Street\, Pittsfield – 1-2:30PM – Free and open to the public!\nLaunching into STEM week – A Planetarium Show – 6-7PM at the Williams College Hopkins Observatory\, 820 Main St\, Williamstown – Planetarium Show free and open to the public.  Please register at https://tinyurl.com/StarShowOct2025\nLaunching into STEM week – A Planetarium Show – 7-8PM at the Williams College Hopkins Observatory\, 820 Main St\, Williamstown – Planetarium Show free and open to the public.  Please register at https://tinyurl.com/StarShowOct2025\n\nVisit mass.gov/STEM for more information \nMassHire is pleased to be a part of the Berkshire STEM Network (with MCLA serving as the\nbackbone)\, which kicked off in 2004\, and serves as a hub for connecting educators\, community\nleaders and industry partners to excite and energize students about opportunities in STEM\nsubjects. This network plays a key role in cultivating interest and engagement in activities in the\nBerkshires. \n 
URL:https://masshireberkshire.com/event/stem-week-october-20-24-2025/
ORGANIZER;CN="Heather Boulger":MAILTO:Heather@masshireberkshire.com
END:VEVENT
BEGIN:VEVENT
DTSTART;VALUE=DATE:20251021
DTEND;VALUE=DATE:20251022
DTSTAMP:20260421T100635
CREATED:20251020T135509Z
LAST-MODIFIED:20251020T141214Z
UID:19377-1761004800-1761091199@masshireberkshire.com
SUMMARY:STEM Week - October 20-24 Tuesday's Activities
DESCRIPTION:Tuesday\, October 21st \n\nMcCann Tech students explore STEM careers at MCLA (9am-1pm)\nClarksburg and Abbott Memorial Elementary students explore STEM at MCLA’s Center for Science and Innovation (9-11:30am).\nSTEM in Hopkins Forest – Salamanders\, Goldenrod and & weather stations\, oh my! 4-5:30pm at Hopkins State Forest in Williamstown. Show is free and open to the public.\n\nVisit mass.gov/STEM for more information \nMassHire is pleased to be a part of the Berkshire STEM Network (with MCLA serving as the\nbackbone)\, which kicked off in 2004\, and serves as a hub for connecting educators\, community\nleaders and industry partners to excite and energize students about opportunities in STEM\nsubjects. This network plays a key role in cultivating interest and engagement in activities in the\nBerkshires.
URL:https://masshireberkshire.com/event/stem-week-october-20-24th/
END:VEVENT
BEGIN:VEVENT
DTSTART;VALUE=DATE:20251022
DTEND;VALUE=DATE:20251023
DTSTAMP:20260421T100635
CREATED:20251020T135739Z
LAST-MODIFIED:20251020T141139Z
UID:19379-1761091200-1761177599@masshireberkshire.com
SUMMARY:STEM Week - October 20-24 Wednesday's Activities
DESCRIPTION:Wednesday\, October 22nd 2025 \n\nHalloween Chemistry – 11:30am-12:30pm at Berkshire Community College Connector\, 1350 West Street in Pittsfield. Vomiting pumpkins\, color change and glowing goo!  Free and open to the public\nEngineering Demos – 2-3PM at Berkshire Community College Science Commons\, 1350 West Street in Pittsfield. Free and open to the public.\n\nVisit mass.gov/STEM for more information \nMassHire is pleased to be a part of the Berkshire STEM Network (with MCLA serving as the\nbackbone)\, which kicked off in 2004\, and serves as a hub for connecting educators\, community\nleaders and industry partners to excite and energize students about opportunities in STEM\nsubjects. This network plays a key role in cultivating interest and engagement in activities in the\nBerkshires.
URL:https://masshireberkshire.com/event/stem-week-october-20-24/
END:VEVENT
BEGIN:VEVENT
DTSTART;VALUE=DATE:20251023
DTEND;VALUE=DATE:20251024
DTSTAMP:20260421T100635
CREATED:20251020T140026Z
LAST-MODIFIED:20251020T141021Z
UID:19381-1761177600-1761263999@masshireberkshire.com
SUMMARY:STEM Week October 20-24 Thursday activities
DESCRIPTION:Thursday\, October 23rd 2025 \n\nBirds of Prey Presentation 12-1PM at the Center for Science and Innovation\, 47 Blackinton Street\, North Adams. Live Birds of Prey demonstration hosted by Tom Ricardi of the Birds of Prey Rehabilitation Center. This event is free and open to the public.\nDrone Flights – 1:30-2:30 at Berkshire Community College’s Connector\, 1350 West Street in Pittsfield. Come see drones in action! Free and open to the public.\nFlying Cloud STEAM Challenge night at the Berkshire Innovation Center\nSTEM Trivia night at Antimony Brewery in Lenox\n\nVisit mass.gov/STEM for more information \nMassHire is pleased to be a part of the Berkshire STEM Network (with MCLA serving as the\nbackbone)\, which kicked off in 2004\, and serves as a hub for connecting educators\, community\nleaders and industry partners to excite and energize students about opportunities in STEM\nsubjects. This network plays a key role in cultivating interest and engagement in activities in the\nBerkshires.
URL:https://masshireberkshire.com/event/stem-week-october-20-24-2025-2/
END:VEVENT
BEGIN:VEVENT
DTSTART;TZID=America/New_York:20251024T090000
DTEND;TZID=America/New_York:20251024T113000
DTSTAMP:20260421T100635
CREATED:20251020T140226Z
LAST-MODIFIED:20251020T141102Z
UID:19383-1761296400-1761305400@masshireberkshire.com
SUMMARY:STEM Week October 20-24th Friday activities
DESCRIPTION:Friday\, October 24th\, 2025 \n\nExploring STEM at MCLA with Colegrove Elementary 3rd graders – 9-11:30am at the Center for Science and Innovation. Students will explore hands on STEM activities featuring Mobile Museums from Berkshire Museum and MCLA faculty.\n\nVisit mass.gov/STEM for more information \nMassHire is pleased to be a part of the Berkshire STEM Network (with MCLA serving as the\nbackbone)\, which kicked off in 2004\, and serves as a hub for connecting educators\, community\nleaders and industry partners to excite and energize students about opportunities in STEM\nsubjects. This network plays a key role in cultivating interest and engagement in activities in the\nBerkshires.
URL:https://masshireberkshire.com/event/stem-week-october-20-24th-2025/
END:VEVENT
END:VCALENDAR